BEGIN:VCALENDAR
METHOD:PUBLISH
PRODID:Data::ICal 0.13
VERSION:2.0
BEGIN:VEVENT
DESCRIPTION:Get tickets to All Stars of Hip Hop 2026 starring Public Enemy, Doug E. Fresh, Montell Jordan, SugarHill Gang &amp; Furious Five at Boardwalk Hall on January 18, 2025! 
CLICK HERE to purchase tickets! 


[caption id=&quot;attachment_1724533&quot; align=&quot;alignnone&quot; width=&quot;4042&quot;] Source: R1 / R1[/caption]
DTSTAMP:20260422T084256Z
DTSTART;TZID=America/New_York:19700101T000000
DTEND;TZID=America/New_York:19700101T000000
LOCATION:
SUMMARY:All Stars of Hip-Hop 2026
UID:1907123--
END:VEVENT
END:VCALENDAR
